BEGIN:VCALENDAR
VERSION:2.0
CALSCALE:GREGORIAN
METHOD:PUBLISH
X-WR-TIMEZONE:Australia/Sydney
BEGIN:VTIMEZONE
TZID:Australia/Sydney
BEGIN:STANDARD
TZNAME:AEST
DTSTART:19700101T000000
TZOFFSETFROM:+1100
TZOFFSETTO:+1000
END:STANDARD
END:VTIMEZONE
BEGIN:VEVENT
DTSTART;TZID=Australia/Sydney:20260508T130000
DTEND;TZID=Australia/Sydney:20260508T143000
DTSTAMP:20260420T190633
UID:318
SUMMARY:Interschool Winter Sport Game Vs Springfield PS
DESCRIPTION:




Locations
Football&amp;nbsp;- Ocean Ridge Sports Centre, Heathridge Park, Sail Terrace
Hockey &amp;amp; Soccer&amp;nbsp;- Eddystone Primary
Netball&amp;nbsp;- Belridge Senior High School


SEQUENCE:0
STATUS:CONFIRMED
TRANSP:OPAQUE
END:VEVENT
END:VCALENDAR